BEGIN:VCALENDAR
VERSION:2.0
PRODID:-//hacksw/handcal//NONSGML v1.0//EN
BEGIN:VEVENT
SUMMARY:Entrainement
UID:5c13ba80-3b52-4fd8-b082-f74b3951c979
DTSTART:20220517T220000Z
DTEND:20220518T220000Z
LOCATION:Localisation   
CATEGORIES:Sportif
STATUS:
DESCRIPTION:Entrainement pour tout le monde afin de preparer les
 prochains tournois.
URL;VALUE=URI:https://tennisquincieuxsg.sportsregions.fr/evenements/2022/05/18/entrainement-1623280
END:VEVENT
BEGIN:VEVENT
SUMMARY:Stage d'ete
UID:1c379590-7675-4df5-bb2d-3732baa90b65
DTSTART:20220629T070000Z
DTEND:20220715T100000Z
LOCATION:Localisation   
CATEGORIES:Stage
STATUS:
URL;VALUE=URI:https://tennisquincieuxsg.sportsregions.fr/evenements/2022/06/29/stage-dete-1635626
END:VEVENT
BEGIN:VEVENT
SUMMARY:Forum des associations - Quincieux
UID:d36ee5c4-2e36-4978-a622-0ec098a6cde2
DTSTART:20220903T070000Z
DTEND:20220903T110000Z
LOCATION:Localisation   
CATEGORIES:Manifestation
STATUS:
URL;VALUE=URI:https://tennisquincieuxsg.sportsregions.fr/evenements/2022/09/03/forum-des-associations-quincieux-1635984
END:VEVENT
BEGIN:VEVENT
SUMMARY:Forum des associations - Saint-Germain-au-Mont-d'Or
UID:08fd25ee-73a0-47d6-b239-e1857c9ac99e
DTSTART:20220910T080000Z
DTEND:20220910T123000Z
LOCATION:Localisation   
CATEGORIES:Manifestation
STATUS:
URL;VALUE=URI:https://tennisquincieuxsg.sportsregions.fr/evenements/2022/09/10/forum-des-associations-saint-germain-au-mont-dor-1635992
END:VEVENT
BEGIN:VEVENT
SUMMARY:Apres-midi decouverte
UID:11fcbcab-0281-4b9a-9808-6b8ac02ed5d5
DTSTART:20221001T120000Z
DTEND:20221001T160000Z
LOCATION:Localisation   
CATEGORIES:Sportif
STATUS:
DESCRIPTION:<p>Venez participer a un apres-midi de detente et de
 rencontre pour marquer la reprise de la saison et rencontrer d'autres
 joueurs / joueuses du club. </p>
 
 <p>Diverses animations et
 rencontres sont au programme !</p>
 
 <p> </p>
 
 <p>Inscription
 obligatoire (gratuite) jusqu'au 25 septembre 2022, via le formulaire
 en ligne. </p>
 
 <p> </p>
 
 <p>Nous vous attendons nombreuses et
 nombreux.</p>
 
URL;VALUE=URI:https://tennisquincieuxsg.sportsregions.fr/evenements/2022/10/01/apres-midi-decouverte-1678775
END:VEVENT
BEGIN:VEVENT
SUMMARY:Stage enfants de la Toussaint
UID:cd3e8c44-d095-4075-a023-79ef02553707
DTSTART:20221023T220000Z
DTEND:20221028T220000Z
LOCATION:Localisation   
CATEGORIES:Stage
STATUS:
DESCRIPTION:<p><span style="font-size:16px;">Ouvert a tous les
 enfants a partir de 7 ans, tous niveaux, licencies ou
 non</span></p>
 
 <h1>HORAIRES</h1>
 
 <p><span
 style="font-size:16px;">9h00 a 12h00</span></p>
 
 <p><span
 style="font-size:16px;">(Sur les terrains de
 Quincieux)</span></p>
 
 <h1>TARIFS</h1>
 
 <ul>
 	<li><span
 style="font-size:16px;">Semaine complete : </span><span
 style="font-size:28px;"><strong>100
 €</strong></span></li>
 	<li><span style="font-size:16px;">½
 Journee :<strong> </strong></span><strong><span
 style="font-size:26px;">20 €</span></strong></li>
 </ul>
 
 <p>Si le
 nombre minimum de participants (6) n’est pas atteint, le stage
 sera annule.</p>
 
 <h1>INSCRIPTIONS</h1>
 
 <ul>
 	<li>Date limite
 d'inscripton : 21 octobre 2022</li>
 	<li>Pour tous renseignements et
 inscriptions, contacter Nelly Tissot au 06-81-02-90-56 ou <a
 href="mailto:nelly.tissot@aliceadsl.fr?subject=Inscription%20Stage%20de%20la%20Toussaint&body=Bonjour%2C%20%0A%0AJe%20souhaiterais%20inscrire%20mon%20enfant%20au%20stage%20de%20Tennis%20des%20vacances%20de%20la%20Toussaint%20%3A%20%0A%0A-%20Nom%20%3A%20%0A-%20Pr%C3%A9nom%20%3A%20%0A-%20T%C3%A9l%C3%A9phone%20%3A%20%0A-%20Adresse%20mail%20%3A">nelly.tissot@aliceadsl.fr</a> </li>
 </ul>
 
 <p> </p>
 
URL;VALUE=URI:https://tennisquincieuxsg.sportsregions.fr/evenements/2022/10/24/stage-enfants-de-la-toussaint-1696930
END:VEVENT
BEGIN:VEVENT
SUMMARY:Arbre de Noel
UID:b3ac5c1a-67f6-4430-88a9-93684d6daa28
DTSTART:20221202T230000Z
DTEND:20221203T230000Z
LOCATION:Localisation   
CATEGORIES:Festif
STATUS:
URL;VALUE=URI:https://tennisquincieuxsg.sportsregions.fr/evenements/2022/12/03/arbre-de-noel-1694004
END:VEVENT
BEGIN:VEVENT
SUMMARY:Assemblee Generale
UID:cbdec691-e44f-45e9-9ebf-7a7498aec995
DTSTART:20230114T100000Z
DTEND:20230114T113000Z
LOCATION:Localisation   
CATEGORIES:Administratif
STATUS:
DESCRIPTION:<p>Venez partager un aperitif convivial a l'occasion de
 l'Assemblee Generale annuelle du club. </p>
 
 <p>A cette occasion, un
 nouveau bureau sera elu, ainsi que de nouveaux membres pour rejoindre
 le conseil d'administration.</p>
 
 <p>Si vous etes interesse pour
 participer a la vie du club, n'hesitez pas a contacter les membres du
 bureau.</p>
 
 <p> </p>
 
 <p>Ordre du jour a venir.</p>
 
URL;VALUE=URI:https://tennisquincieuxsg.sportsregions.fr/evenements/2023/01/14/assemblee-generale-1678774
END:VEVENT
BEGIN:VEVENT
SUMMARY:Stage de Paques
UID:feb3135e-6bc9-4df3-8266-d66fb262c30b
DTSTART:20230417T070000Z
DTEND:20230421T100000Z
LOCATION:Localisation   
CATEGORIES:Stage
STATUS:
DESCRIPTION:<p>Stage pour les enfants a partir de 7 ans. Tous
 niveaux, licencies ou non. Tous les matins de 9h a
 midi. </p>
 
 <p>Tarif : 20€ la demi journee, 100€ la semaine
 complete.</p>
 
 <p>Inscriptions avant le 10 avril par mail :
 atqsg69@gmail.com ou aupres de la
 monitrice nelly.tissot@aliceadsl.fr</p>
 
URL;VALUE=URI:https://tennisquincieuxsg.sportsregions.fr/evenements/2023/04/17/stage-de-paques-1798998
END:VEVENT
BEGIN:VEVENT
SUMMARY:Fete du club
UID:8644ea8b-b02a-4838-97b6-1d3f7097ac13
DTSTART:20230618T080000Z
DTEND:20230618T150000Z
LOCATION:Localisation   
CATEGORIES:Festif
STATUS:
DESCRIPTION:<p>Venez feter avec nous la fin de la saison sportive et
 profiter d'un bon moment de partage convivial autour du
 tennis. </p>
 
 <p>Au programme de cette journee
 : </p>
 
 <ul>
 	<li>Tournois de jeunes</li>
 	<li>Jeux et animations
 pour jeunes et moins jeunes</li>
 	<li>Barbecue
 festif</li>
 	<li>Possibilite d'inscription et de renouvellement
 d'adhesion pour la saison prochaine</li>
 </ul>
 
 <p>Afin d'ajuster les
 quantites pour le barbecue, nous vous remercions de nous confirmer
 votre presence en nous ecrivant a l'adresse du club
 atqsg69@gmail.com</p>
 
URL;VALUE=URI:https://tennisquincieuxsg.sportsregions.fr/evenements/2023/06/18/fete-du-club-1799000
END:VEVENT
BEGIN:VEVENT
SUMMARY:Tournoi Multi Chances Automne
UID:08e20120-2223-4052-a164-402a90a206e5
DTSTART:20231031T230000Z
DTEND:20240115T230000Z
LOCATION:Localisation   
CATEGORIES:Sportif
STATUS:
URL;VALUE=URI:https://tennisquincieuxsg.sportsregions.fr/evenements/2023/11/01/tournoi-multi-chances-automne-1920883
END:VEVENT
BEGIN:VEVENT
SUMMARY:Arbre de Noel
UID:eac34299-e5f0-4ff8-9a8c-5f3657c794d3
DTSTART:20231216T130000Z
DTEND:20231216T163000Z
LOCATION:Localisation   
CATEGORIES:Festif
STATUS:
DESCRIPTION:<p><strong>Invitation a l'Arbre de Noel du Club de Tennis
 de Quincieux</strong></p>
 
 <p>Chers petits tennismen et petites
 tenniswomen,</p>
 
 <p>Le Club de Tennis de Quincieux a le plaisir de
 vous inviter a notre Arbre de Noel le 16 decembre 2023, une journee
 magique concue specialement pour nos jeunes champions en herbe
 !</p>
 
 <p>🎄 <strong>Au Programme :</strong></p>
 
 <p><strong>14h30
 - Jeux et activites de tennis</strong> Plongez dans l'esprit festif
 avec des jeux amusants et des activites de tennis adaptees a tous les
 niveaux. Que vous soyez debutant ou futur champion, il y en aura pour
 tous les gouts !</p>
 
 <p><strong>15h00 - Ateliers creatifs</strong>
 Laissez libre cours a votre creativite avec des ateliers ou vous
 pourrez decorer des balles de tennis, fabriquer des couronnes de Noel
 et bien plus encore. Des souvenirs a emporter chez vous
 !</p>
 
 <p><strong>16h00 - Gouter de Noel</strong> Rejoignez-nous pour
 un delicieux gouter de Noel ou vous pourrez deguster des friandises,
 partager des rires et creer des souvenirs inoubliables avec vos amis
 du club.</p>
 
 <p>Nous vous promettons une journee remplie de rires,
 de joie et de surprises. N'oubliez pas de porter votre plus beau
 sourire et votre tenue de tennis preferee !</p>
 
 <p>Venez nombreux
 celebrer la magie de Noel avec nous au Club de Tennis de Quincieux.
 Nous avons hate de partager ce moment festif avec chacun d'entre vous
 !</p>
 
 <p>Joyeuses fetes et a tres bientot sur les courts !</p>
 
URL;VALUE=URI:https://tennisquincieuxsg.sportsregions.fr/evenements/2023/12/16/arbre-de-noel-1920865
END:VEVENT
BEGIN:VEVENT
SUMMARY:Assemblee generale
UID:601f4b1f-7880-4784-9a00-2b1a194e25e6
DTSTART:20240120T090000Z
DTEND:20240120T110000Z
LOCATION:Localisation   
CATEGORIES:Administratif
STATUS:
URL;VALUE=URI:https://tennisquincieuxsg.sportsregions.fr/evenements/2024/01/20/assemblee-generale-1920866
END:VEVENT
BEGIN:VEVENT
SUMMARY:Matchs par equipe
UID:442738e1-212f-43cc-a056-ca14b76b3594
DTSTART:20240331T220000Z
DTEND:20240430T220000Z
LOCATION:Localisation   
CATEGORIES:Sportif
STATUS:
URL;VALUE=URI:https://tennisquincieuxsg.sportsregions.fr/evenements/2024/04/01/matchs-par-equipe-1920874
END:VEVENT
BEGIN:VEVENT
SUMMARY:Stage de Paques
UID:0e6fbb20-9b98-4d18-9e73-c7814d661c0b
DTSTART:20240415T070000Z
DTEND:20240419T100000Z
LOCATION:Localisation   
CATEGORIES:Stage
STATUS:
URL;VALUE=URI:https://tennisquincieuxsg.sportsregions.fr/evenements/2024/04/15/stage-de-paques-1920880
END:VEVENT
BEGIN:VEVENT
SUMMARY:Fete du club
UID:a0326153-1f8d-4596-a345-d3d5e390c9e9
DTSTART:20240608T120000Z
DTEND:20240608T180000Z
LOCATION:Localisation   
CATEGORIES:Festif
STATUS:
DESCRIPTION:<p>Au programme : </p>
 
 <ul>
 	<li>Jeux et tournois pour
 les plus jeunes</li>
 	<li>Matchs parents / enfants</li>
 	<li>Lots a
 gagner, dont plusieurs places pour l'OPEN SOPRA STERIA du 10 au 16
 juin 2024 a Lyon</li>
 	<li>Match d'exhibition</li>
 	<li>Barbecue pour
 conclure l'apres-midi</li>
 	<li>Buvette</li>
 	<li>Stand en continu
 pour vous inscrire ou reinscrire</li>
 </ul>
 
URL;VALUE=URI:https://tennisquincieuxsg.sportsregions.fr/evenements/2024/06/08/fete-du-club-1920867
END:VEVENT
BEGIN:VEVENT
SUMMARY:Stage d'ete
UID:47a5d583-f020-4661-8ef9-62572e57b379
DTSTART:20240624T070000Z
DTEND:20240712T100000Z
LOCATION:Localisation   
CATEGORIES:Stage
STATUS:
DESCRIPTION:<p><span style="font-size:48px;"><a
 href="https://www.helloasso.com/associations/association-tennis-quincieux-saint-germain/evenements/stage-ete-2024">Tarifs
 et inscriptions sur la page dediee</a></span></p>
 
URL;VALUE=URI:https://tennisquincieuxsg.sportsregions.fr/evenements/2024/06/24/stage-dete-2010194
END:VEVENT
BEGIN:VEVENT
SUMMARY:Forum des associations - Quincieux
UID:234c4b03-0d94-4c81-9840-7a462e2cd27c
DTSTART:20240907T080000Z
DTEND:20240907T110000Z
LOCATION:Localisation   
CATEGORIES:Manifestation
STATUS:
DESCRIPTION:<p>L'ATQSG sera present au forum des associations a
 Quinceux, le samedi 7 septembre de 10h a 13h a la MJC. <br />
 <br
 />
 Renseignements et dernieres inscriptions sur
 place. </p>
 
 <p>https://www.quincieux.fr/event/forum-des-associations-2/</p>
 
URL;VALUE=URI:https://tennisquincieuxsg.sportsregions.fr/evenements/2024/09/07/forum-des-associations-quincieux-2016130
END:VEVENT
BEGIN:VEVENT
SUMMARY:Stage de printemps
UID:45fd5f93-4c07-4a78-af8f-b48de298dcd1
DTSTART:20250422T070000Z
DTEND:20250425T100000Z
LOCATION:Localisation   
CATEGORIES:Stage
STATUS:
URL;VALUE=URI:https://tennisquincieuxsg.sportsregions.fr/evenements/2025/04/22/stage-de-printemps-2181466
END:VEVENT
BEGIN:VEVENT
SUMMARY:Sortie Laser Game
UID:99a46c94-c125-4820-9576-27df81c816ea
DTSTART:20250517T110000Z
DTEND:20250517T150000Z
LOCATION:Localisation   
CATEGORIES:Festif
STATUS:
URL;VALUE=URI:https://tennisquincieuxsg.sportsregions.fr/evenements/2025/05/17/sortie-laser-game-2181467
END:VEVENT
BEGIN:VEVENT
SUMMARY:Journee Porte Ouverte
UID:b1448c6d-5771-4d0c-a881-d53c9e078da0
DTSTART:20250628T070000Z
DTEND:20250628T160000Z
LOCATION:Localisation   
CATEGORIES:Manifestation
STATUS:
DESCRIPTION:<h3 data-end="200" data-start="148">🎾 Journee Portes
 Ouvertes – Samedi 28 juin 2025</h3>
 
 <p data-end="492"
 data-start="202">Le club de tennis de Quincieux Saint-Germain vous
 invite a sa <strong data-end="291" data-start="264">journee portes
 ouvertes</strong> le <strong data-end="313" data-start="295">samedi
 28 juin</strong>, de <strong data-end="330" data-start="318">9h a
 18h</strong>.<br data-end="334" data-start="331" />
 Une occasion
 ideale pour decouvrir le club, tester le tennis, passer un bon moment
 en famille… et pourquoi pas rejoindre l’aventure pour la saison
 prochaine !</p>
 
 <h4 data-end="517" data-start="494">🗓️ Au
 programme :</h4>
 
 <ul data-end="842" data-start="518">
 	<li
 data-end="563" data-start="518">
 	<p data-end="563"
 data-start="520"><strong data-end="563" data-start="520">Acces libre
 aux courts toute la journee</strong></p>
 	</li>
 	<li data-end="667"
 data-start="564">
 	<p data-end="667" data-start="566"><strong
 data-end="591" data-start="566">Inscriptions ouvertes</strong> pour
 la saison 2025-2026 : venez poser vos questions et rencontrer
 l’equipe</p>
 	</li>
 	<li data-end="728" data-start="668">
 	<p
 data-end="728" data-start="670"><strong data-end="691"
 data-start="670">Double a la melee</strong> (ouvert a tous, ambiance
 conviviale)</p>
 	</li>
 	<li data-end="770" data-start="729">
 	<p
 data-end="770" data-start="731"><strong data-end="770"
 data-start="731">Jeux et animations pour les
 enfants</strong></p>
 	</li>
 	<li data-end="842" data-start="771">
 	<p
 data-end="842" data-start="773"><strong data-end="793"
 data-start="773">Barbecue le midi</strong> : grillades, boissons
 fraiches et bonne humeur !</p>
 	</li>
 </ul>
 
 <p data-end="969"
 data-start="844">🎾 Que vous soyez curieux, debutant ou joueur
 confirme, tout le monde est bienvenu. Pas besoin d’etre membre, ni
 de reserver.</p>
 
 <hr data-end="974" data-start="971" />
 <h3
 data-end="999" data-start="976">📍Infos pratiques :</h3>
 
 <p
 data-end="1141" data-start="1000">📅 Samedi 28 juin 2025<br
 data-end="1025" data-start="1022" />
 🕘 De 9h a 18h<br
 data-end="1042" data-start="1039" />
 📍 Tennis Club Quincieux
 Saint-Germain - Chemin des Poyets<br data-end="1107"
 data-start="1104" />
 🅿️ Parking gratuit – Acces
 facile</p>
 
 <hr data-end="1146" data-start="1143" />
 <p
 data-end="1258" data-start="1148"><strong data-end="1258"
 data-start="1148">Une journee pour decouvrir, jouer, echanger et
 partager notre passion du tennis. On vous attend nombreux
 !</strong></p>
 
URL;VALUE=URI:https://tennisquincieuxsg.sportsregions.fr/evenements/2025/06/28/journee-porte-ouverte-2181468
END:VEVENT
BEGIN:VEVENT
SUMMARY:Stage d'ete 2025
UID:bd6ad9df-e72e-46f8-ab80-705c9b50ce14
DTSTART:20250630T070000Z
DTEND:20250718T100000Z
LOCATION:Localisation   
CATEGORIES:Stage
STATUS:
DESCRIPTION:<p>Stage ouvert a tous les enfants a partir de 7 ans,
 adherent ou non au club. </p>
 
 <p>Tarif : 20€ la
 matinee.</p>
 
 <p>Du 30 juin au 18 juillet (sauf le 14 juillet) de 9h
 a 12h sur les terrains a Quincieux. </p>
 
 <p>Inscription et
 renseignement par mail : atqsg69@gmail.com</p>
 
URL;VALUE=URI:https://tennisquincieuxsg.sportsregions.fr/evenements/2025/06/30/stage-dete-2025-2233578
END:VEVENT
BEGIN:VEVENT
SUMMARY:Permanence inscriptions et remises des badges
UID:93bf082f-e328-4c41-9389-20149c52ccb6
DTSTART:20250830T080000Z
DTEND:20250830T100000Z
LOCATION:Localisation   
CATEGORIES:Administratif
STATUS:
URL;VALUE=URI:https://tennisquincieuxsg.sportsregions.fr/evenements/2025/08/30/permanence-inscriptions-et-remises-des-badges-2273230
END:VEVENT
BEGIN:VEVENT
SUMMARY:Forum des associations (Quincieux et Saint-Germain)
UID:2559cfbf-0cfa-4281-aba4-4bcf20c61188
DTSTART:20250906T070000Z
DTEND:20250906T110000Z
LOCATION:Localisation   
CATEGORIES:Manifestation
STATUS:
URL;VALUE=URI:https://tennisquincieuxsg.sportsregions.fr/evenements/2025/09/06/forum-des-associations-quincieux-et-saint-germain-2237721
END:VEVENT
BEGIN:VEVENT
SUMMARY:Assemblee generale ordinaire
UID:90b4f6d0-b142-4785-86dd-54f3e2875044
DTSTART:20251011T090000Z
DTEND:20251011T100000Z
LOCATION:Localisation   
CATEGORIES:Administratif
STATUS:
DESCRIPTION:<h2 data-end="292" data-start="229">Assemblee Generale de
 l’ATQSG — Samedi 11 octobre 2025 a 11h</h2>
 
 <p data-end="449"
 data-start="294">L’Assemblee Generale annuelle de l’Association
 Tennis Quincieux Saint-Germain se tiendra le <strong data-end="418"
 data-start="386">samedi 11 octobre 2025 a 11h</strong>, au club house
 de Quincieux.</p>
 
 <p data-end="536" data-start="451">Ce rendez-vous
 statutaire est un moment essentiel de la vie du club. Il permet de
 :</p>
 
 <ul data-end="860" data-start="537">
 	<li data-end="606"
 data-start="537">
 	<p data-end="606" data-start="539">presenter le
 <strong data-end="582" data-start="552">bilan sportif et
 financier</strong> de la saison ecoulee,</p>
 	</li>
 	<li
 data-end="707" data-start="607">
 	<p data-end="707"
 data-start="609">partager les <strong data-end="660"
 data-start="622">projets et investissements a venir</strong>
 (infrastructures, animations, competitions),</p>
 	</li>
 	<li
 data-end="784" data-start="708">
 	<p data-end="784"
 data-start="710">proceder au <strong data-end="766"
 data-start="722">renouvellement des instances dirigeantes</strong>
 (CA et bureau),</p>
 	</li>
 	<li data-end="860" data-start="785">
 	<p
 data-end="860" data-start="787">donner la parole aux adherents pour
 echanger et repondre aux questions.</p>
 	</li>
 </ul>
 
 <p
 data-end="992" data-start="862">L’Assemblee Generale sera suivie
 d’un <strong data-end="922" data-start="900">aperitif
 convivial</strong>, afin de prolonger les discussions dans un cadre
 detendu et amical.</p>
 
 <p data-end="1172" data-start="994">Nous
 rappelons que la presence des adherents est en principe <strong
 data-end="1070" data-start="1055">obligatoire</strong>. En cas
 d’empechement, vous pouvez vous faire representer afin que votre
 voix soit prise en compte.</p>
 
 <p data-end="1289"
 data-start="1174">📌 Convocations et ordre du jour detaille seront
 adresses a l’ensemble des adherents dans les jours qui
 viennent.</p>
 
URL;VALUE=URI:https://tennisquincieuxsg.sportsregions.fr/evenements/2025/10/11/assemblee-generale-ordinaire-2237805
END:VEVENT
BEGIN:VEVENT
SUMMARY:Stage de la Toussaint
UID:c637ee2a-b3f6-4067-aaab-e6cc9c58ec08
DTSTART:20251020T070000Z
DTEND:20251024T100000Z
LOCATION:Localisation   
CATEGORIES:Stage
STATUS:
URL;VALUE=URI:https://tennisquincieuxsg.sportsregions.fr/evenements/2025/10/20/stage-de-la-toussaint-2237807
END:VEVENT
END:VCALENDAR
