BEGIN:VCALENDAR
VERSION:2.0
PRODID:-//hacksw/handcal//NONSGML v1.0//EN
BEGIN:VEVENT
SUMMARY:Permanence inscriptions et remises des badges
UID:93bf082f-e328-4c41-9389-20149c52ccb6
DTSTART:20250830T080000Z
DTEND:20250830T100000Z
LOCATION:Localisation   
CATEGORIES:Administratif
STATUS:
URL;VALUE=URI:https://tennisquincieuxsg.sportsregions.fr/evenements/2025/08/30/permanence-inscriptions-et-remises-des-badges-2273230
END:VEVENT
END:VCALENDAR
