BEGIN:VCALENDAR
VERSION:2.0
PRODID:-//hacksw/handcal//NONSGML v1.0//EN
BEGIN:VEVENT
SUMMARY:Matchs par equipe
UID:442738e1-212f-43cc-a056-ca14b76b3594
DTSTART:20240331T220000Z
DTEND:20240430T220000Z
LOCATION:Localisation   
CATEGORIES:Sportif
STATUS:
URL;VALUE=URI:https://tennisquincieuxsg.sportsregions.fr/evenements/2024/04/01/matchs-par-equipe-1920874
END:VEVENT
END:VCALENDAR
