BEGIN:VCALENDAR
VERSION:2.0
PRODID:-//hacksw/handcal//NONSGML v1.0//EN
BEGIN:VEVENT
SUMMARY:Stage enfants de la Toussaint
UID:cd3e8c44-d095-4075-a023-79ef02553707
DTSTART:20221023T220000Z
DTEND:20221028T220000Z
LOCATION:Localisation   
CATEGORIES:Stage
STATUS:
DESCRIPTION:<p><span style="font-size:16px;">Ouvert a tous les
 enfants a partir de 7 ans, tous niveaux, licencies ou
 non</span></p>
 
 <h1>HORAIRES</h1>
 
 <p><span
 style="font-size:16px;">9h00 a 12h00</span></p>
 
 <p><span
 style="font-size:16px;">(Sur les terrains de
 Quincieux)</span></p>
 
 <h1>TARIFS</h1>
 
 <ul>
 	<li><span
 style="font-size:16px;">Semaine complete : </span><span
 style="font-size:28px;"><strong>100
 €</strong></span></li>
 	<li><span style="font-size:16px;">½
 Journee :<strong> </strong></span><strong><span
 style="font-size:26px;">20 €</span></strong></li>
 </ul>
 
 <p>Si le
 nombre minimum de participants (6) n’est pas atteint, le stage
 sera annule.</p>
 
 <h1>INSCRIPTIONS</h1>
 
 <ul>
 	<li>Date limite
 d'inscripton : 21 octobre 2022</li>
 	<li>Pour tous renseignements et
 inscriptions, contacter Nelly Tissot au 06-81-02-90-56 ou <a
 href="mailto:nelly.tissot@aliceadsl.fr?subject=Inscription%20Stage%20de%20la%20Toussaint&body=Bonjour%2C%20%0A%0AJe%20souhaiterais%20inscrire%20mon%20enfant%20au%20stage%20de%20Tennis%20des%20vacances%20de%20la%20Toussaint%20%3A%20%0A%0A-%20Nom%20%3A%20%0A-%20Pr%C3%A9nom%20%3A%20%0A-%20T%C3%A9l%C3%A9phone%20%3A%20%0A-%20Adresse%20mail%20%3A">nelly.tissot@aliceadsl.fr</a> </li>
 </ul>
 
 <p> </p>
 
URL;VALUE=URI:https://tennisquincieuxsg.sportsregions.fr/evenements/2022/10/24/stage-enfants-de-la-toussaint-1696930
END:VEVENT
END:VCALENDAR
